BEGIN:VCALENDAR
VERSION:2.0
PRODID:-//Prairie Hills Audubon Society - ECPv6.15.20//NONSGML v1.0//EN
CALSCALE:GREGORIAN
METHOD:PUBLISH
X-WR-CALNAME:Prairie Hills Audubon Society
X-ORIGINAL-URL:https://phas-wsd.org
X-WR-CALDESC:Events for Prairie Hills Audubon Society
REFRESH-INTERVAL;VALUE=DURATION:PT1H
X-Robots-Tag:noindex
X-PUBLISHED-TTL:PT1H
BEGIN:VTIMEZONE
TZID:America/Denver
BEGIN:DAYLIGHT
TZOFFSETFROM:-0700
TZOFFSETTO:-0600
TZNAME:MDT
DTSTART:20220313T090000
END:DAYLIGHT
BEGIN:STANDARD
TZOFFSETFROM:-0600
TZOFFSETTO:-0700
TZNAME:MST
DTSTART:20221106T080000
END:STANDARD
BEGIN:DAYLIGHT
TZOFFSETFROM:-0700
TZOFFSETTO:-0600
TZNAME:MDT
DTSTART:20230312T090000
END:DAYLIGHT
BEGIN:STANDARD
TZOFFSETFROM:-0600
TZOFFSETTO:-0700
TZNAME:MST
DTSTART:20231105T080000
END:STANDARD
BEGIN:DAYLIGHT
TZOFFSETFROM:-0700
TZOFFSETTO:-0600
TZNAME:MDT
DTSTART:20240310T090000
END:DAYLIGHT
BEGIN:STANDARD
TZOFFSETFROM:-0600
TZOFFSETTO:-0700
TZNAME:MST
DTSTART:20241103T080000
END:STANDARD
END:VTIMEZONE
BEGIN:VEVENT
DTSTART;TZID=America/Denver:20230228T183000
DTEND;TZID=America/Denver:20230228T210000
DTSTAMP:20260422T023035
CREATED:20230202T235319Z
LAST-MODIFIED:20230311T050217Z
UID:5816-1677609000-1677618000@phas-wsd.org
SUMMARY:PHAS monthly meeting for February - Presentation by Meghan Carter\, Staff for National Audubon Society's Dakotas' Office
DESCRIPTION:This will be a Zoom meeting starting at 6:30 pm on Tuesday 2/28/23. \nMeghan Carter staff of the National Audubon Society (NAS)  from their Dakotas’ office in Fargo\, ND will talk to us about the National Audubon Society’s staff activities & programs in the Dakotas – and NAS programs you can participate in.  We normally have the NAS Dakotas’ office report to us once a year –  normally in January. \nTo watch a recording of this meeting: \n\n\n\n\n\n\n\n\n\n\n\n\n\n\n\n\n\nhttps://us02web.zoom.us/rec/share/07mxm8OjRB6pX7_wtTuxJHrps4xTFHp89nJcK1ZKW595Yq9TUidhR9IvGU4OOqpH.v-sgWreKnoJ59SV4 Passcode: 5r9.tFM*\n\n\n\n\n\n\n\n\n\n\n\n\n\n\n\n\n\nJoin Zoom Meeting\nhttps://us02web.zoom.us/j/85433920233?pwd=QmxYUDMvMGRrNW9yRmVON3VPU0dRZz09\n\nMeeting ID: 854 3392 0233\nPasscode: 534620\nOne tap mobile\n+16694449171\,\,85433920233#\,\,\,\,*534620# US\n+16699006833\,\,85433920233#\,\,\,\,*534620# US (San Jose)\n\nDial by your location (As far as we know any work in western SD)\n        +1 669 444 9171 US\n        +1 669 900 6833 US (San Jose)\n        +1 719 359 4580 US\n        +1 253 205 0468 US\n        +1 253 215 8782 US (Tacoma)\n        +1 346 248 7799 US (Houston)\n        +1 689 278 1000 US\n        +1 929 205 6099 US (New York)\n        +1 301 715 8592 US (Washington DC)\n        +1 305 224 1968 US\n        +1 309 205 3325 US\n        +1 312 626 6799 US (Chicago)\n        +1 360 209 5623 US\n        +1 386 347 5053 US\n        +1 507 473 4847 US\n        +1 564 217 2000 US\n        +1 646 931 3860 US\nMeeting ID: 854 3392 0233\nPasscode: 534620\nFind your local number: https://us02web.zoom.us/u/kbb9dO0PBV
URL:https://phas-wsd.org/event/phas-monthly-meeting-for-february-meghan-carter-staff-for-national-audubon-societys-dakotas-office/
END:VEVENT
END:VCALENDAR