BEGIN:VCALENDAR
VERSION:2.0
PRODID:-//Prairie Hills Audubon Society - ECPv6.15.20//NONSGML v1.0//EN
CALSCALE:GREGORIAN
METHOD:PUBLISH
X-WR-CALNAME:Prairie Hills Audubon Society
X-ORIGINAL-URL:https://phas-wsd.org
X-WR-CALDESC:Events for Prairie Hills Audubon Society
REFRESH-INTERVAL;VALUE=DURATION:PT1H
X-Robots-Tag:noindex
X-PUBLISHED-TTL:PT1H
BEGIN:VTIMEZONE
TZID:America/Denver
BEGIN:DAYLIGHT
TZOFFSETFROM:-0700
TZOFFSETTO:-0600
TZNAME:MDT
DTSTART:20220313T090000
END:DAYLIGHT
BEGIN:STANDARD
TZOFFSETFROM:-0600
TZOFFSETTO:-0700
TZNAME:MST
DTSTART:20221106T080000
END:STANDARD
BEGIN:DAYLIGHT
TZOFFSETFROM:-0700
TZOFFSETTO:-0600
TZNAME:MDT
DTSTART:20230312T090000
END:DAYLIGHT
BEGIN:STANDARD
TZOFFSETFROM:-0600
TZOFFSETTO:-0700
TZNAME:MST
DTSTART:20231105T080000
END:STANDARD
BEGIN:DAYLIGHT
TZOFFSETFROM:-0700
TZOFFSETTO:-0600
TZNAME:MDT
DTSTART:20240310T090000
END:DAYLIGHT
BEGIN:STANDARD
TZOFFSETFROM:-0600
TZOFFSETTO:-0700
TZNAME:MST
DTSTART:20241103T080000
END:STANDARD
END:VTIMEZONE
BEGIN:VEVENT
DTSTART;TZID=America/Denver:20231111T171500
DTEND;TZID=America/Denver:20231111T183000
DTSTAMP:20260419T085947
CREATED:20231110T025224Z
LAST-MODIFIED:20231110T025322Z
UID:9394-1699722900-1699727400@phas-wsd.org
SUMMARY:"Gathering Mushrooms & Willow" - a crankie
DESCRIPTION:“Gathering Mushrooms & Willow” – A crankie\, a theater box with spools\, moves an illustrated painted scroll from scene to scene as stories unfold with music (flute\, sax\,  violin & song) & narrative.  All ages $5 donation. \nAt Aby’s 406\, 5th St. Rapid City\, SD
URL:https://phas-wsd.org/event/gathering-mushrooms-willow-a-crankie/
END:VEVENT
END:VCALENDAR